BEGIN:VCALENDAR
VERSION:2.0
PRODID:-//jEvents 2.0 for Joomla//EN
CALSCALE:GREGORIAN
METHOD:PUBLISH
BEGIN:VTIMEZONE
TZID:Europe/Oslo
END:VTIMEZONE
BEGIN:VEVENT
UID:152ef3de807080180ed5fda3b5e5032e
CATEGORIES:KamSam
CREATED:20200813T204327
SUMMARY:Kam Sam
DESCRIPTION;ENCODING=QUOTED-PRINTABLE:
DTSTAMP:20260423T195626Z
DTSTART;TZID=Europe/Oslo:20201017T190000
SEQUENCE:0
TRANSP:OPAQUE
END:VEVENT
END:VCALENDAR