BEGIN:VCALENDAR
VERSION:2.0
PRODID:-//jEvents 2.0 for Joomla//EN
CALSCALE:GREGORIAN
METHOD:PUBLISH
BEGIN:VTIMEZONE
TZID:Europe/Oslo
END:VTIMEZONE
BEGIN:VEVENT
UID:87225b23c72dbd0ce269e5292dc79faf
CATEGORIES:Utleie
CREATED:20200714T221528
SUMMARY:Utleid
DESCRIPTION;ENCODING=QUOTED-PRINTABLE:
DTSTAMP:20260424T021334Z
DTSTART;TZID=Europe/Oslo;VALUE=DATE:20200920
DTEND;TZID=Europe/Oslo;VALUE=DATE:20200921
SEQUENCE:0
TRANSP:OPAQUE
END:VEVENT
END:VCALENDAR