BEGIN:VCALENDAR
VERSION:2.0
PRODID:-//jEvents 2.0 for Joomla//EN
CALSCALE:GREGORIAN
METHOD:PUBLISH
BEGIN:VTIMEZONE
TZID:Europe/Oslo
END:VTIMEZONE
BEGIN:VEVENT
UID:7a98f0de6d4a39ee076af306b2c597f7
CATEGORIES:Utleie
CREATED:20200327T225315
SUMMARY:Utleid
DESCRIPTION;ENCODING=QUOTED-PRINTABLE:
DTSTAMP:20260424T021334Z
DTSTART;TZID=Europe/Oslo;VALUE=DATE:20200912
DTEND;TZID=Europe/Oslo;VALUE=DATE:20200913
SEQUENCE:0
TRANSP:OPAQUE
END:VEVENT
END:VCALENDAR